BEGIN:VCALENDAR
PRODID: -//CFLIB.ORG//iCalUS()//EN
VERSION:2.0
METHOD:REQUEST
BEGIN:VTIMEZONE
BEGIN:STANDARD
DTSTART:20061101T020000
RRULE:FREQ=YEARLY;INTERVAL=1;BYDAY=1SU;BYMONTH=11
TZOFFSETFROM:-0400
TZOFFSETTO:-0500
TZNAME:Standard Time
END:STANDARD
BEGIN:DAYLIGHT
DTSTART:20060301T020000
RRULE:FREQ=YEARLY;INTERVAL=1;BYDAY=2SU;BYMONTH=3
TZOFFSETFROM:-0500
TZOFFSETTO:-0400
TZNAME:Daylight Savings Time
END:DAYLIGHT
END:VTIMEZONE
BEGIN:VEVENT
UID:1614350982812.CFLIB.ORG
ORGANIZER;CN=:MAILTO:
DTSTAMP:20210227T014942
DTSTART;TZID=Eastern Time:20210227T101500
DTEND;TZID=Eastern Time:20210227T104500
SUMMARY:PETER JAMES REALTY - OFI/OPEN HOME - 40 Kanoona Street, CARINGBAH SOUTH, 2229
LOCATION:40 Kanoona Street, CARINGBAH SOUTH, 2229
DESCRIPTION:OFI/OPEN HOME - 40 Kanoona Street, CARINGBAH SOUTH, 2229\n\nSaturday 10:15AM-10:45AM\n\nClick the link for full listing information: http://peterjames.com.au?/property/3432969
PRIORITY:1
TRANSP:OPAQUE
CLASS:PUBLIC
BEGIN:VALARM
TRIGGER:-PT30M
ACTION:DISPLAY
DESCRIPTION:Reminder
END:VALARM
END:VEVENT
END:VCALENDAR 